BEGIN:VCALENDAR
VERSION:2.0
PRODID:-//eventon.com NONSGML v1.0//EN
CALSCALE:GREGORIAN
METHOD:PUBLISH
BEGIN:VEVENT
UID:69eaeca0286e3
DTSTAMP:20260424T040800Z
DTSTART:20260425T140000Z
DTEND:20260425T190000Z
LOCATION:Lake Arthur Park 102 Arthur Ave
SUMMARY:Art in the Park
DESCRIPTION:Join us at At in the Park to grab free merch\,  learn about upc
 oming library events and meet Lake Arthur&#8217;s librarians.\nhttps://jdpl
 ibrary.org/events/art-in-the-park/
URL:https://jdplibrary.org/events/art-in-the-park/
END:VEVENT
END:VCALENDAR