BEGIN:VCALENDAR
VERSION:2.0
PRODID:-//eventon.com NONSGML v1.0//EN
CALSCALE:GREGORIAN
METHOD:PUBLISH
BEGIN:VEVENT
UID:69eaeb9114106
DTSTAMP:20260424T040329Z
DTSTART:20260505T190000Z
DTEND:20260505T200000Z
LOCATION:Welsh Library 301 S. Sarah St\,  Welsh LA 70532
SUMMARY:French Coffee
DESCRIPTION:Coffee &amp; French Conversation\nhttps://jdplibrary.org/events
 /french-coffee-11/
URL:https://jdplibrary.org/events/french-coffee-11/
END:VEVENT
END:VCALENDAR