BEGIN:VCALENDAR
VERSION:2.0
PRODID:-//eventon.com NONSGML v1.0//EN
CALSCALE:GREGORIAN
METHOD:PUBLISH
BEGIN:VEVENT
UID:69eaebc585abd
DTSTAMP:20260424T040421Z
DTSTART:20260506T180000Z
DTEND:20260506T193000Z
LOCATION:Jennings Library 118 W Plaquemine St\, 
SUMMARY:Creative Crafters
DESCRIPTION:Adults Join us in the basement to create trinket trays from sea
  shells\nhttps://jdplibrary.org/events/creative-crafters-5/
URL:https://jdplibrary.org/events/creative-crafters-5/
END:VEVENT
END:VCALENDAR